BEGIN:VCALENDAR
VERSION:2.0
CALSCALE:GREGORIAN
METHOD:PUBLISH
X-WR-TIMEZONE:Australia/Sydney
BEGIN:VTIMEZONE
TZID:Australia/Sydney
BEGIN:STANDARD
TZNAME:AEST
END:STANDARD
END:VTIMEZONE
BEGIN:VEVENT
DTSTART;TZID=Australia/Sydney:20260429T090000
DTEND;TZID=Australia/Sydney:20260429T150000
DTSTAMP:20260423T230820
UID:188
SUMMARY:Event: Grade 3-6 Athletics Day (Grade 3-6 Athletics Day)
DESCRIPTION:Grade 3-6 Athletics Day
SEQUENCE:0
STATUS:CONFIRMED
TRANSP:OPAQUE
END:VEVENT
END:VCALENDAR